BEGIN:VCALENDAR
VERSION:2.0
PRODID:-//Saints Peter and Paul Catholic Parish - ECPv6.15.18//NONSGML v1.0//EN
CALSCALE:GREGORIAN
METHOD:PUBLISH
X-ORIGINAL-URL:https://ssppmilw.org
X-WR-CALDESC:Events for Saints Peter and Paul Catholic Parish
REFRESH-INTERVAL;VALUE=DURATION:PT1H
X-Robots-Tag:noindex
X-PUBLISHED-TTL:PT1H
BEGIN:VTIMEZONE
TZID:America/Chicago
BEGIN:DAYLIGHT
TZOFFSETFROM:-0600
TZOFFSETTO:-0500
TZNAME:CDT
DTSTART:20250309T080000
END:DAYLIGHT
BEGIN:STANDARD
TZOFFSETFROM:-0500
TZOFFSETTO:-0600
TZNAME:CST
DTSTART:20251102T070000
END:STANDARD
BEGIN:DAYLIGHT
TZOFFSETFROM:-0600
TZOFFSETTO:-0500
TZNAME:CDT
DTSTART:20260308T080000
END:DAYLIGHT
BEGIN:STANDARD
TZOFFSETFROM:-0500
TZOFFSETTO:-0600
TZNAME:CST
DTSTART:20261101T070000
END:STANDARD
BEGIN:DAYLIGHT
TZOFFSETFROM:-0600
TZOFFSETTO:-0500
TZNAME:CDT
DTSTART:20270314T080000
END:DAYLIGHT
BEGIN:STANDARD
TZOFFSETFROM:-0500
TZOFFSETTO:-0600
TZNAME:CST
DTSTART:20271107T070000
END:STANDARD
END:VTIMEZONE
BEGIN:VEVENT
DTSTART;VALUE=DATE:20260412
DTEND;VALUE=DATE:20260413
DTSTAMP:20260422T150129
CREATED:20260401T152410Z
LAST-MODIFIED:20260409T152554Z
UID:68681-1775952000-1776038399@ssppmilw.org
SUMMARY:Coffee Sale
DESCRIPTION:Kulaktik Coffee\, grown in our sister parish in Chiapas and roasted here in Milwaukee by Colectivo Coffee\, will be sold after each of the Masses April 12. An act of faith in every cup! Thanks for your support of our sister parish. For more information\, contact Michael Reyes at yagrumo@gmail.com. 
URL:https://ssppmilw.org/event/coffee-sale/
LOCATION:WI
END:VEVENT
BEGIN:VEVENT
DTSTART;TZID=America/Chicago:20260412T170000
DTEND;TZID=America/Chicago:20260412T190000
DTSTAMP:20260422T150129
CREATED:20260131T021855Z
LAST-MODIFIED:20260324T160007Z
UID:68400-1776013200-1776020400@ssppmilw.org
SUMMARY:Nova Middle School Group
DESCRIPTION:Our Nova Nights are a lot of fun! From active games to spiritual talks to great snacks\, the evening always goes by in a flash! All students in 6th\, 7th\, and 8th grade (from any school or religious background) are welcome to join in the fun. Registration can be found at tinyurl.com/novanight2026. \nFor any questions\, feel free to reach out to Nino Rebholz\, Director of Youth and Young Adult Ministry\, at nrebholz@ffpmke.org or 414-271-6577. \nScheduled Dates:\nSeptember 28\nOctober 26\nNovember 16\nDecember 7\nJanuary 11\nFebruary 22\nMarch 22\nApril 12\nMay 17
URL:https://ssppmilw.org/event/nova-middle-school-group/
LOCATION:Ss. Peter & Paul\, 2490 N Cramer St\, Milwaukee\, WI\, 53211
END:VEVENT
END:VCALENDAR