BEGIN:VCALENDAR
VERSION:2.0
PRODID:-//Saints Peter and Paul Catholic Parish - ECPv6.15.18//NONSGML v1.0//EN
CALSCALE:GREGORIAN
METHOD:PUBLISH
X-WR-CALNAME:Saints Peter and Paul Catholic Parish
X-ORIGINAL-URL:https://ssppmilw.org
X-WR-CALDESC:Events for Saints Peter and Paul Catholic Parish
REFRESH-INTERVAL;VALUE=DURATION:PT1H
X-Robots-Tag:noindex
X-PUBLISHED-TTL:PT1H
BEGIN:VTIMEZONE
TZID:America/Chicago
BEGIN:DAYLIGHT
TZOFFSETFROM:-0600
TZOFFSETTO:-0500
TZNAME:CDT
DTSTART:20250309T080000
END:DAYLIGHT
BEGIN:STANDARD
TZOFFSETFROM:-0500
TZOFFSETTO:-0600
TZNAME:CST
DTSTART:20251102T070000
END:STANDARD
BEGIN:DAYLIGHT
TZOFFSETFROM:-0600
TZOFFSETTO:-0500
TZNAME:CDT
DTSTART:20260308T080000
END:DAYLIGHT
BEGIN:STANDARD
TZOFFSETFROM:-0500
TZOFFSETTO:-0600
TZNAME:CST
DTSTART:20261101T070000
END:STANDARD
BEGIN:DAYLIGHT
TZOFFSETFROM:-0600
TZOFFSETTO:-0500
TZNAME:CDT
DTSTART:20270314T080000
END:DAYLIGHT
BEGIN:STANDARD
TZOFFSETFROM:-0500
TZOFFSETTO:-0600
TZNAME:CST
DTSTART:20271107T070000
END:STANDARD
END:VTIMEZONE
BEGIN:VEVENT
DTSTART;TZID=America/Chicago:20260420T190000
DTEND;TZID=America/Chicago:20260420T203000
DTSTAMP:20260422T031436
CREATED:20260131T043710Z
LAST-MODIFIED:20260408T203128Z
UID:68426-1776711600-1776717000@ssppmilw.org
SUMMARY:Reflecting on the Sunday Readings
DESCRIPTION:“The grass withers\, the flower fades\, but the word of our God remains forever.” Isaiah 40:8 \nOn the first and third Mondays of each month\, we invite individuals to share and reflect on the upcoming Sunday readings. In a small group setting\, we break open God’s Word\, allowing it to speak to our lives and to challenge us to grow in our understanding of who God is\, who we are\, and who God is calling us to be. \nFor further information contact Chad Griesel\, Pastoral Associate\, at cgriesel@ffpmke.org or 414-271-6577.
URL:https://ssppmilw.org/event/reflecting-on-the-sunday-readings/
LOCATION:Old St. Mary Parish Center\, 835 N Milwaukee St\, Milwaukee\, 53202
END:VEVENT
END:VCALENDAR