BEGIN:VCALENDAR
VERSION:2.0
PRODID:-//Saints Peter and Paul Catholic Parish - ECPv6.15.18//NONSGML v1.0//EN
CALSCALE:GREGORIAN
METHOD:PUBLISH
X-WR-CALNAME:Saints Peter and Paul Catholic Parish
X-ORIGINAL-URL:https://ssppmilw.org
X-WR-CALDESC:Events for Saints Peter and Paul Catholic Parish
REFRESH-INTERVAL;VALUE=DURATION:PT1H
X-Robots-Tag:noindex
X-PUBLISHED-TTL:PT1H
BEGIN:VTIMEZONE
TZID:America/Chicago
BEGIN:DAYLIGHT
TZOFFSETFROM:-0600
TZOFFSETTO:-0500
TZNAME:CDT
DTSTART:20250309T080000
END:DAYLIGHT
BEGIN:STANDARD
TZOFFSETFROM:-0500
TZOFFSETTO:-0600
TZNAME:CST
DTSTART:20251102T070000
END:STANDARD
BEGIN:DAYLIGHT
TZOFFSETFROM:-0600
TZOFFSETTO:-0500
TZNAME:CDT
DTSTART:20260308T080000
END:DAYLIGHT
BEGIN:STANDARD
TZOFFSETFROM:-0500
TZOFFSETTO:-0600
TZNAME:CST
DTSTART:20261101T070000
END:STANDARD
BEGIN:DAYLIGHT
TZOFFSETFROM:-0600
TZOFFSETTO:-0500
TZNAME:CDT
DTSTART:20270314T080000
END:DAYLIGHT
BEGIN:STANDARD
TZOFFSETFROM:-0500
TZOFFSETTO:-0600
TZNAME:CST
DTSTART:20271107T070000
END:STANDARD
END:VTIMEZONE
BEGIN:VEVENT
DTSTART;TZID=America/Chicago:20260423T183000
DTEND;TZID=America/Chicago:20260423T203000
DTSTAMP:20260422T063944
CREATED:20260131T043822Z
LAST-MODIFIED:20260326T030537Z
UID:68428-1776969000-1776976200@ssppmilw.org
SUMMARY:Healing the Whole Person: Engaging Your Story
DESCRIPTION:Thursdays: April 23 – June 25 (no meeting May 14 & June 11)\n6:30 – 8:30 pm (doors open at 6:00 pm – light dinner)\nOld St. Mary Parish Center (enter doors off parking lot)\nCost: $20 includes workbook journal (scholarships are available)\nRegister at https://intranet.archmil.org/Healing-the-Whole-Person/Story.htm or contact Terri Balash\, Director of Pastoral Care\, at tbalash@ffpmke.org. \nHealing the Whole Person: Engaging Your Story is an 8-week series that provides the framework for understanding and receiving Christ’s healing and peace in the heart of the Catholic Church. \nUsing videos featuring Dr. Bob Schuchts & Sr. Miriam James Heidland presenting the John Paul II Healing Center’s Healing the Whole Person teachings\, each session includes a guided prayer experience and a workbook journaling activity for private reflection and prayer. These sessions also include the opportunity to receive the sacrament of reconciliation and to pray with a prayer team trained by the John Paul II Healing Center. \nThe goal of this video series is to facilitate a personal encounter with Jesus’ merciful love and healing truth in the areas where people have felt disconnected from love and bound by lies. We have witnessed God work powerfully in the lives of those who participate with an open heart. Wherever you find yourself now is not the end of your story. God is here. God has more for you. Engaging Your Story is time set aside for God to guide you through.
URL:https://ssppmilw.org/event/healing-the-whole-person-engaging-your-story/
LOCATION:Old St. Mary Parish Center\, 835 N Milwaukee St\, Milwaukee\, 53202
END:VEVENT
END:VCALENDAR