BEGIN:VCALENDAR
VERSION:2.0
PRODID:-//Saints Peter and Paul Catholic Parish - ECPv6.15.18//NONSGML v1.0//EN
CALSCALE:GREGORIAN
METHOD:PUBLISH
X-ORIGINAL-URL:https://ssppmilw.org
X-WR-CALDESC:Events for Saints Peter and Paul Catholic Parish
REFRESH-INTERVAL;VALUE=DURATION:PT1H
X-Robots-Tag:noindex
X-PUBLISHED-TTL:PT1H
BEGIN:VTIMEZONE
TZID:America/Chicago
BEGIN:DAYLIGHT
TZOFFSETFROM:-0600
TZOFFSETTO:-0500
TZNAME:CDT
DTSTART:20250309T080000
END:DAYLIGHT
BEGIN:STANDARD
TZOFFSETFROM:-0500
TZOFFSETTO:-0600
TZNAME:CST
DTSTART:20251102T070000
END:STANDARD
BEGIN:DAYLIGHT
TZOFFSETFROM:-0600
TZOFFSETTO:-0500
TZNAME:CDT
DTSTART:20260308T080000
END:DAYLIGHT
BEGIN:STANDARD
TZOFFSETFROM:-0500
TZOFFSETTO:-0600
TZNAME:CST
DTSTART:20261101T070000
END:STANDARD
BEGIN:DAYLIGHT
TZOFFSETFROM:-0600
TZOFFSETTO:-0500
TZNAME:CDT
DTSTART:20270314T080000
END:DAYLIGHT
BEGIN:STANDARD
TZOFFSETFROM:-0500
TZOFFSETTO:-0600
TZNAME:CST
DTSTART:20271107T070000
END:STANDARD
END:VTIMEZONE
BEGIN:VEVENT
DTSTART;TZID=America/Chicago:20260425T090000
DTEND;TZID=America/Chicago:20260425T120000
DTSTAMP:20260422T092951
CREATED:20260312T010558Z
LAST-MODIFIED:20260408T185012Z
UID:68580-1777107600-1777118400@ssppmilw.org
SUMMARY:Milwaukee Riverkeeper Spring Cleanup
DESCRIPTION:The Creation Care Team and UPLIFT invite you to join Family of Four (and Cathedral) parishioners\, young and old\, as we clean up the Milwaukee River near Locust Street! The Riverkeeper Spring Cleanup will take place from 9:00 am – 12:00 pm on Saturday\, April 25. Parish volunteers will meet in the northwest corner of the Riverside University High School parking lot (1615 E. Locust St). Please park in the middle section of the lot. Note that the entrance to the parking lot is located at the stoplight near Locust & Newhall Streets. From there\, we will walk through the wooded areas between the river and the Oak Leaf Trail\, in a section designated for our group. Milwaukee Riverkeeper will provide bags\, gloves\, supplies\, and FREE T-shirts\, and YOU provide the hands and energy to pick up trash! \nAll participants must sign up and complete a waiver: Spring Cleanup Registration \nIf you have questions email rivercleanup@milwaukeeriverkeeper.org or Nick Wagner at nickwagner2000@outlook.com.
URL:https://ssppmilw.org/event/milwaukee-riverkeeper-spring-cleanup/
LOCATION:WI
END:VEVENT
END:VCALENDAR