BEGIN:VCALENDAR
VERSION:2.0
PRODID:-//Saints Peter and Paul Catholic Parish - ECPv6.15.18//NONSGML v1.0//EN
CALSCALE:GREGORIAN
METHOD:PUBLISH
X-WR-CALNAME:Saints Peter and Paul Catholic Parish
X-ORIGINAL-URL:https://ssppmilw.org
X-WR-CALDESC:Events for Saints Peter and Paul Catholic Parish
REFRESH-INTERVAL;VALUE=DURATION:PT1H
X-Robots-Tag:noindex
X-PUBLISHED-TTL:PT1H
BEGIN:VTIMEZONE
TZID:America/Chicago
BEGIN:DAYLIGHT
TZOFFSETFROM:-0600
TZOFFSETTO:-0500
TZNAME:CDT
DTSTART:20250309T080000
END:DAYLIGHT
BEGIN:STANDARD
TZOFFSETFROM:-0500
TZOFFSETTO:-0600
TZNAME:CST
DTSTART:20251102T070000
END:STANDARD
BEGIN:DAYLIGHT
TZOFFSETFROM:-0600
TZOFFSETTO:-0500
TZNAME:CDT
DTSTART:20260308T080000
END:DAYLIGHT
BEGIN:STANDARD
TZOFFSETFROM:-0500
TZOFFSETTO:-0600
TZNAME:CST
DTSTART:20261101T070000
END:STANDARD
BEGIN:DAYLIGHT
TZOFFSETFROM:-0600
TZOFFSETTO:-0500
TZNAME:CDT
DTSTART:20270314T080000
END:DAYLIGHT
BEGIN:STANDARD
TZOFFSETFROM:-0500
TZOFFSETTO:-0600
TZNAME:CST
DTSTART:20271107T070000
END:STANDARD
END:VTIMEZONE
BEGIN:VEVENT
DTSTART;TZID=America/Chicago:20260428T144500
DTEND;TZID=America/Chicago:20260428T160000
DTSTAMP:20260422T124336
CREATED:20260131T022848Z
LAST-MODIFIED:20260408T185330Z
UID:68410-1777387500-1777392000@ssppmilw.org
SUMMARY:Prayer Shawl Ministry
DESCRIPTION:Dates: Third Tuesday of the month\nLocation: St. Rita Church (1617 N Cass St)\nTime: Gather at 2:45 pm\, knit & crochet from 3:00-3:50 pm\, conclude with Mass at 4:00 pm \nWhen these prayer shawls are completed\, they are blessed and given to those who need our prayers and support. This ministry has a beautiful spirit! These gifted individuals share their faith with the sick\, lonely and heavy-hearted\, and remind them of God’s love. Please join us. \nPrayer shawl gift bags are always available to anyone. If you or someone you know needs a prayer shawl or you have questions\, please contact Terri\, our Director of Pastoral Care\, at 469-6173 or tbalash@ffpmke.org.
URL:https://ssppmilw.org/event/prayer-shawl-ministry/
LOCATION:Three Holy Women-St. Rita Church\, 1617 N Cass St\, Milwaukee\, WI\, 53202\, United States
END:VEVENT
END:VCALENDAR