BEGIN:VCALENDAR
VERSION:2.0
PRODID:-//Saints Peter and Paul Catholic Parish - ECPv6.15.18//NONSGML v1.0//EN
CALSCALE:GREGORIAN
METHOD:PUBLISH
X-WR-CALNAME:Saints Peter and Paul Catholic Parish
X-ORIGINAL-URL:https://ssppmilw.org
X-WR-CALDESC:Events for Saints Peter and Paul Catholic Parish
REFRESH-INTERVAL;VALUE=DURATION:PT1H
X-Robots-Tag:noindex
X-PUBLISHED-TTL:PT1H
BEGIN:VTIMEZONE
TZID:America/Chicago
BEGIN:DAYLIGHT
TZOFFSETFROM:-0600
TZOFFSETTO:-0500
TZNAME:CDT
DTSTART:20250309T080000
END:DAYLIGHT
BEGIN:STANDARD
TZOFFSETFROM:-0500
TZOFFSETTO:-0600
TZNAME:CST
DTSTART:20251102T070000
END:STANDARD
BEGIN:DAYLIGHT
TZOFFSETFROM:-0600
TZOFFSETTO:-0500
TZNAME:CDT
DTSTART:20260308T080000
END:DAYLIGHT
BEGIN:STANDARD
TZOFFSETFROM:-0500
TZOFFSETTO:-0600
TZNAME:CST
DTSTART:20261101T070000
END:STANDARD
BEGIN:DAYLIGHT
TZOFFSETFROM:-0600
TZOFFSETTO:-0500
TZNAME:CDT
DTSTART:20270314T080000
END:DAYLIGHT
BEGIN:STANDARD
TZOFFSETFROM:-0500
TZOFFSETTO:-0600
TZNAME:CST
DTSTART:20271107T070000
END:STANDARD
END:VTIMEZONE
BEGIN:VEVENT
DTSTART;TZID=America/Chicago:20260501T093000
DTEND;TZID=America/Chicago:20260501T113000
DTSTAMP:20260422T172225
CREATED:20260203T032304Z
LAST-MODIFIED:20260408T202955Z
UID:68449-1777627800-1777635000@ssppmilw.org
SUMMARY:Volunteering at Fr. Gene’s Help Center
DESCRIPTION:We have a team of volunteers serving at Father Gene’s every first Friday of the month from 9:30-11:30 am. No need to RSVP\, please just show up at 5919 W National Avenue at 9:30 am! Email Idalia Nieves-Reyes at inievesreyes@ffpmke.org with questions.
URL:https://ssppmilw.org/event/volunteering-at-fr-genes-help-center/
LOCATION:Father Gene’s Help Center\, 5919 W National Ave\, Milwaukee\, WI\, 53214\, United States
END:VEVENT
BEGIN:VEVENT
DTSTART;TZID=America/Chicago:20260501T123000
DTEND;TZID=America/Chicago:20260501T130000
DTSTAMP:20260422T172225
CREATED:20260203T032456Z
LAST-MODIFIED:20260312T182833Z
UID:68452-1777638600-1777640400@ssppmilw.org
SUMMARY:First Friday Anointing
DESCRIPTION:On the first Friday of each month\, we are offering the Sacrament of Anointing of the Sick following the 12:05 pm Mass at Old St. Mary. This sacrament of healing is for anyone struggling with a chronic illness\, the elderly and those facing serious surgical procedures.
URL:https://ssppmilw.org/event/first-friday-anointing/
LOCATION:Old St. Mary Church\, 844 N Broadway\, Milwaukee\, WI\, 53202\, United States
END:VEVENT
END:VCALENDAR