BEGIN:VCALENDAR
VERSION:2.0
PRODID:-//Saints Peter and Paul Catholic Parish - ECPv6.15.18//NONSGML v1.0//EN
CALSCALE:GREGORIAN
METHOD:PUBLISH
X-WR-CALNAME:Saints Peter and Paul Catholic Parish
X-ORIGINAL-URL:https://ssppmilw.org
X-WR-CALDESC:Events for Saints Peter and Paul Catholic Parish
REFRESH-INTERVAL;VALUE=DURATION:PT1H
X-Robots-Tag:noindex
X-PUBLISHED-TTL:PT1H
BEGIN:VTIMEZONE
TZID:America/Chicago
BEGIN:DAYLIGHT
TZOFFSETFROM:-0600
TZOFFSETTO:-0500
TZNAME:CDT
DTSTART:20240310T080000
END:DAYLIGHT
BEGIN:STANDARD
TZOFFSETFROM:-0500
TZOFFSETTO:-0600
TZNAME:CST
DTSTART:20241103T070000
END:STANDARD
BEGIN:DAYLIGHT
TZOFFSETFROM:-0600
TZOFFSETTO:-0500
TZNAME:CDT
DTSTART:20250309T080000
END:DAYLIGHT
BEGIN:STANDARD
TZOFFSETFROM:-0500
TZOFFSETTO:-0600
TZNAME:CST
DTSTART:20251102T070000
END:STANDARD
BEGIN:DAYLIGHT
TZOFFSETFROM:-0600
TZOFFSETTO:-0500
TZNAME:CDT
DTSTART:20260308T080000
END:DAYLIGHT
BEGIN:STANDARD
TZOFFSETFROM:-0500
TZOFFSETTO:-0600
TZNAME:CST
DTSTART:20261101T070000
END:STANDARD
END:VTIMEZONE
BEGIN:VEVENT
DTSTART;TZID=America/Chicago:20250509T170000
DTEND;TZID=America/Chicago:20250509T210000
DTSTAMP:20260422T230044
CREATED:20250324T234552Z
LAST-MODIFIED:20260414T174720Z
UID:68658-1746810000-1746824400@ssppmilw.org
SUMMARY:Catholic East Gala
DESCRIPTION:Catholic East Elementary is proud to announce that the spring fundraiser gala is back! Mark your calendar and plan to join us for this very special event on Friday\, May 9\, 2025\, 5:00 – 9:00 pm at the Atrium of the Cathedral of St. John the Evangelist (812 North Jackson Street\, Milwaukee 53202).  \nThere are a number of ways you can help support this fundraiser: \n● Purchase Gala Tickets: To purchase tickets\, go to https://all-saints-catholic-east-elementary.square.site or contact Stephanie Crump at scrump@catholiceast.org. \n● Table Captains: Would you like to purchase a table or help fill a table of 8 people? Purchase at the link above or contact the school office at 414-964-1770. \n● Silent Auction Donations and Event Sponsors: If you are interested in donating an item or service to the silent auction or if you know of an individual\, your employer or another business who may be willing to support our event\, contact the school office at 414-964-1770. \n  \n 
URL:https://ssppmilw.org/event/catholic-east-gala/
LOCATION:Atrium of Cathedral of St. John the Evangelist\, 812 N Jackson St\, Milwaukee\, WI\, 53202
END:VEVENT
END:VCALENDAR